BEGIN:VCALENDAR
VERSION:2.0
PRODID:-//wp-events-plugin.com//7.2.3.1//EN
TZID:America/New_York
X-WR-TIMEZONE:America/New_York
BEGIN:VEVENT
UID:4043@nbdministry.org
DTSTART;TZID=America/New_York:20251004T100000
DTEND;TZID=America/New_York:20251004T110000
DTSTAMP:20240913T150139Z
URL:https://nbdministry.org/events/choir-practice-5-2025-10-04
SUMMARY:NBDM Choir Practice
DESCRIPTION:Members of the choir are set to practice the ministering of God
 's Word through song weekly at 11:00 a.m.
ATTACH;FMTTYPE=image/jpeg:https://nbdministry.org/wp-content/uploads/2022/
 02/pexels-cottonbro-7520073.jpg
LOCATION:New Beginnings Deliverance Ministry Inc\, 1048 Livingston Ave.\, B
 runswick\, New Jersey\, 08902\, United States
GEO:40.467757;-74.471544
X-APPLE-STRUCTURED-LOCATION;VALUE=URI;X-ADDRESS=1048 Livingston Ave.\, Brun
 swick\, New Jersey\, 08902\, United States;X-APPLE-RADIUS=100;X-TITLE=New 
 Beginnings Deliverance Ministry Inc:geo:40.467757,-74.471544
END:VEVENT
BEGIN:VTIMEZONE
TZID:America/New_York
X-LIC-LOCATION:America/New_York
BEGIN:DAYLIGHT
DTSTART:20250309T030000
TZOFFSETFROM:-0500
TZOFFSETTO:-0400
TZNAME:EDT
END:DAYLIGHT
END:VTIMEZONE
END:VCALENDAR