BEGIN:VCALENDAR
VERSION:2.0
PRODID:-//wp-events-plugin.com//7.2.3.1//EN
TZID:America/New_York
X-WR-TIMEZONE:America/New_York
BEGIN:VEVENT
UID:4355@nbdministry.org
DTSTART;TZID=America/New_York:20251103T050000
DTEND;TZID=America/New_York:20251103T060000
DTSTAMP:20230622T165600Z
URL:https://nbdministry.org/events/monday-morning-prayer-2025-11-03
SUMMARY:Monday Morning Prayer
DESCRIPTION:Please join us on the conference line for an uplifting\, prayer
 \, and supplication at 6 a.m. each Monday morning. Dial 202-926-1127 Code:
  507264
ATTACH;FMTTYPE=image/jpeg:https://nbdministry.org/wp-content/uploads/2023/
 06/pexels-monstera-5997362-scaled.jpg
END:VEVENT
BEGIN:VTIMEZONE
TZID:America/New_York
X-LIC-LOCATION:America/New_York
BEGIN:STANDARD
DTSTART:20251102T010000
TZOFFSETFROM:-0400
TZOFFSETTO:-0500
TZNAME:EST
END:STANDARD
END:VTIMEZONE
END:VCALENDAR