BEGIN:VCALENDAR
VERSION:2.0
PRODID:-//wp-events-plugin.com//7.2.3.1//EN
TZID:America/New_York
X-WR-TIMEZONE:America/New_York
BEGIN:VEVENT
UID:5183@nbdministry.org
DTSTART;TZID=America/New_York;VALUE=DATE:20240827
DTEND;TZID=America/New_York;VALUE=DATE:20240829
DTSTAMP:20240913T150651Z
URL:https://nbdministry.org/events/pastors-day-off-41-2024-08-27
SUMMARY:Pastor's Day Off
DESCRIPTION:This day is designated for the pastor to take the time to rest.
  Please no phone calls or texts should be sent. In the event of an emergen
 cy\, please contact Evangelist Rena Caines or Associate Pastor Carrie and 
 Ernest Hill
ATTACH;FMTTYPE=image/jpeg:https://nbdministry.org/wp-content/uploads/2023/
 02/pexels-roberto-nickson-2531237-scaled.jpg
END:VEVENT
BEGIN:VTIMEZONE
TZID:America/New_York
X-LIC-LOCATION:America/New_York
BEGIN:DAYLIGHT
DTSTART:20240310T030000
TZOFFSETFROM:-0500
TZOFFSETTO:-0400
TZNAME:EDT
END:DAYLIGHT
END:VTIMEZONE
END:VCALENDAR