BEGIN:VCALENDAR
VERSION:2.0
PRODID:-//wp-events-plugin.com//7.2.3.1//EN
TZID:America/New_York
X-WR-TIMEZONE:America/New_York
BEGIN:VEVENT
UID:4923@nbdministry.org
DTSTART;TZID=America/New_York:20240831T060000
DTEND;TZID=America/New_York:20240831T070000
DTSTAMP:20230622T170051Z
URL:https://nbdministry.org/events/saturday-morning-prayer-2024-08-31
SUMMARY:Saturday Morning Prayer
DESCRIPTION:Please join us on the conference line for an uplifting\, prayer
 \, and supplication at 6 a.m. each Saturday morning. Dial 202-926-1127 Cod
 e: 507264
ATTACH;FMTTYPE=image/jpeg:https://nbdministry.org/wp-content/uploads/2023/
 06/pexels-tara-winstead-8383424-scaled.jpg
END:VEVENT
BEGIN:VTIMEZONE
TZID:America/New_York
X-LIC-LOCATION:America/New_York
BEGIN:DAYLIGHT
DTSTART:20240310T030000
TZOFFSETFROM:-0500
TZOFFSETTO:-0400
TZNAME:EDT
END:DAYLIGHT
END:VTIMEZONE
END:VCALENDAR