BEGIN:VCALENDAR
VERSION:2.0
PRODID:-//wp-events-plugin.com//7.2.3.1//EN
TZID:America/New_York
X-WR-TIMEZONE:America/New_York
BEGIN:VEVENT
UID:4139@nbdministry.org
DTSTART;TZID=America/New_York:20240903T200000
DTEND;TZID=America/New_York:20240903T210000
DTSTAMP:20230622T165433Z
URL:https://nbdministry.org/events/tuesday-night-prayer-3-2024-09-03
SUMMARY:Tuesday Night Prayer
DESCRIPTION:Please join us on the conference line for Prayer\, the Word\, a
 nd thoughtful conversation at 8 pm each Tuesday night. Dial 202-926-1127 C
 ode: 507264
ATTACH;FMTTYPE=image/jpeg:https://nbdministry.org/wp-content/uploads/2022/
 08/pexels-pixabay-416320.jpg
END:VEVENT
BEGIN:VTIMEZONE
TZID:America/New_York
X-LIC-LOCATION:America/New_York
BEGIN:DAYLIGHT
DTSTART:20240310T030000
TZOFFSETFROM:-0500
TZOFFSETTO:-0400
TZNAME:EDT
END:DAYLIGHT
END:VTIMEZONE
END:VCALENDAR