BEGIN:VCALENDAR
VERSION:2.0
PRODID:-//wp-events-plugin.com//7.2.3.1//EN
TZID:America/New_York
X-WR-TIMEZONE:America/New_York
BEGIN:VEVENT
UID:4460@nbdministry.org
DTSTART;TZID=America/New_York:20241113T050000
DTEND;TZID=America/New_York:20241113T060000
DTSTAMP:20230622T165752Z
URL:https://nbdministry.org/events/wednesday-morning-prayer-2024-11-13
SUMMARY:Wednesday Morning Prayer
DESCRIPTION:Please join us on the conference line for an uplifting\, prayer
 \, and supplication at 5 a.m. each Wednesday morning. Dial 202-926-1127 Co
 de: 507264
ATTACH;FMTTYPE=image/jpeg:https://nbdministry.org/wp-content/uploads/2023/
 06/pexels-rdne-stock-project-7468222-scaled.jpg
END:VEVENT
BEGIN:VTIMEZONE
TZID:America/New_York
X-LIC-LOCATION:America/New_York
BEGIN:STANDARD
DTSTART:20241103T010000
TZOFFSETFROM:-0400
TZOFFSETTO:-0500
TZNAME:EST
END:STANDARD
END:VTIMEZONE
END:VCALENDAR