BEGIN:VCALENDAR
VERSION:2.0
PRODID:-//wp-events-plugin.com//7.2.3.1//EN
TZID:America/New_York
X-WR-TIMEZONE:America/New_York
BEGIN:VEVENT
UID:3805@nbdministry.org
DTSTART;TZID=America/New_York:20261021T190000
DTEND;TZID=America/New_York:20261021T200000
DTSTAMP:20230319T163937Z
URL:https://nbdministry.org/events/wednesday-night-bible-study-online-2026
 -10-21
SUMMARY:Wednesday Bible Study (Night)
DESCRIPTION:Good evening New Beginnings Deliverance Ministry friends and fa
 mily join us for a night of awesome teaching. Please be sure to join us in
  the upper room at 7:00 pm to participate. Have a blessed day and please 
 be safe! 🔥💫
ATTACH;FMTTYPE=image/jpeg:https://nbdministry.org/wp-content/uploads/2019/
 04/Purple-lake.jpeg
LOCATION:New Beginnings Deliverance Ministry Inc\, 1048 Livingston Ave.\, B
 runswick\, New Jersey\, 08902\, United States
GEO:40.467757;-74.471544
X-APPLE-STRUCTURED-LOCATION;VALUE=URI;X-ADDRESS=1048 Livingston Ave.\, Brun
 swick\, New Jersey\, 08902\, United States;X-APPLE-RADIUS=100;X-TITLE=New 
 Beginnings Deliverance Ministry Inc:geo:40.467757,-74.471544
END:VEVENT
BEGIN:VTIMEZONE
TZID:America/New_York
X-LIC-LOCATION:America/New_York
BEGIN:DAYLIGHT
DTSTART:20260308T030000
TZOFFSETFROM:-0500
TZOFFSETTO:-0400
TZNAME:EDT
END:DAYLIGHT
END:VTIMEZONE
END:VCALENDAR